BEGIN:VCALENDAR
VERSION:2.0
PRODID:spatie/icalendar-generator
NAME:Managerial Accounting: Your Prescription for Better Decision
X-WR-CALNAME:Managerial Accounting: Your Prescription for Better Decision
BEGIN:VTIMEZONE
TZID:America/New_York
BEGIN:STANDARD
DTSTART:20251102T010000
TZOFFSETFROM:-0400
TZOFFSETTO:-0500
END:STANDARD
BEGIN:DAYLIGHT
DTSTART:20260308T010000
TZOFFSETFROM:-0500
TZOFFSETTO:-0400
END:DAYLIGHT
END:VTIMEZONE
BEGIN:VTIMEZONE
TZID:UTC
BEGIN:STANDARD
DTSTART:20250727T094736
TZOFFSETFROM:+0000
TZOFFSETTO:+0000
END:STANDARD
END:VTIMEZONE
BEGIN:VEVENT
UID:69e9eab8dfad1
DTSTAMP:20260423T094736Z
SUMMARY:Managerial Accounting: Your Prescription for Better Decision
LOCATION: 
URL:https://macpa.org/catalog/events/21234900-managerial-accounting-your-pr
 escription-for-better-decision-2026-29-04
DTSTART;TZID=America/New_York:20260429T130000
DTEND;TZID=America/New_York:20260429T170000
END:VEVENT
END:VCALENDAR