BEGIN:VCALENDAR
VERSION:2.0
PRODID:spatie/icalendar-generator
NAME:Create Visuals in Power BI to Successfully Analyze Data
X-WR-CALNAME:Create Visuals in Power BI to Successfully Analyze Data
BEGIN:VTIMEZONE
TZID:America/New_York
BEGIN:STANDARD
DTSTART:20251102T010000
TZOFFSETFROM:-0400
TZOFFSETTO:-0500
END:STANDARD
BEGIN:DAYLIGHT
DTSTART:20260308T010000
TZOFFSETFROM:-0500
TZOFFSETTO:-0400
END:DAYLIGHT
END:VTIMEZONE
BEGIN:VTIMEZONE
TZID:UTC
BEGIN:STANDARD
DTSTART:20250727T132849
TZOFFSETFROM:+0000
TZOFFSETTO:+0000
END:STANDARD
END:VTIMEZONE
BEGIN:VEVENT
UID:69ea1e91ca8b3
DTSTAMP:20260423T132849Z
SUMMARY:Create Visuals in Power BI to Successfully Analyze Data
LOCATION: 
URL:https://macpa.org/catalog/events/21234668-create-visuals-in-power-bi-to
 -successfully-analyze-data-2026-29-04
DTSTART;TZID=America/New_York:20260429T093000
DTEND;TZID=America/New_York:20260429T133000
END:VEVENT
END:VCALENDAR