BEGIN:VCALENDAR
VERSION:2.0
PRODID:spatie/icalendar-generator
NAME:Implementing and Maintaining an Internal Control System
X-WR-CALNAME:Implementing and Maintaining an Internal Control System
BEGIN:VTIMEZONE
TZID:America/New_York
BEGIN:STANDARD
DTSTART:20251102T010000
TZOFFSETFROM:-0400
TZOFFSETTO:-0500
END:STANDARD
BEGIN:DAYLIGHT
DTSTART:20260308T010000
TZOFFSETFROM:-0500
TZOFFSETTO:-0400
END:DAYLIGHT
END:VTIMEZONE
BEGIN:VTIMEZONE
TZID:UTC
BEGIN:STANDARD
DTSTART:20250727T162248
TZOFFSETFROM:+0000
TZOFFSETTO:+0000
END:STANDARD
END:VTIMEZONE
BEGIN:VEVENT
UID:69ea4758a3bdf
DTSTAMP:20260423T162248Z
SUMMARY:Implementing and Maintaining an Internal Control System
LOCATION: 
URL:https://macpa.org/catalog/events/21234601-implementing-and-maintaining-
 an-internal-control-system-2026-29-04
DTSTART;TZID=America/New_York:20260429T090000
DTEND;TZID=America/New_York:20260429T170000
END:VEVENT
END:VCALENDAR