BEGIN:VCALENDAR
VERSION:2.0
PRODID:spatie/icalendar-generator
NAME:Adobe Acrobat Tips for Working with PDF Files
X-WR-CALNAME:Adobe Acrobat Tips for Working with PDF Files
BEGIN:VTIMEZONE
TZID:America/New_York
BEGIN:STANDARD
DTSTART:20251102T010000
TZOFFSETFROM:-0400
TZOFFSETTO:-0500
END:STANDARD
BEGIN:DAYLIGHT
DTSTART:20260308T010000
TZOFFSETFROM:-0500
TZOFFSETTO:-0400
END:DAYLIGHT
END:VTIMEZONE
BEGIN:VTIMEZONE
TZID:UTC
BEGIN:STANDARD
DTSTART:20250727T094539
TZOFFSETFROM:+0000
TZOFFSETTO:+0000
END:STANDARD
END:VTIMEZONE
BEGIN:VEVENT
UID:69e9ea439e309
DTSTAMP:20260423T094539Z
SUMMARY:Adobe Acrobat Tips for Working with PDF Files
LOCATION: 
URL:https://macpa.org/catalog/events/21234523-adobe-acrobat-tips-for-workin
 g-with-pdf-files-2026-28-04
DTSTART;TZID=America/New_York:20260428T160000
DTEND;TZID=America/New_York:20260428T180000
END:VEVENT
END:VCALENDAR