BEGIN:VCALENDAR
VERSION:2.0
PRODID:spatie/icalendar-generator
NAME:Lessons on Fraud Prevention from Sam Bankman-Fried's Crypto
X-WR-CALNAME:Lessons on Fraud Prevention from Sam Bankman-Fried's Crypto
BEGIN:VTIMEZONE
TZID:America/New_York
BEGIN:STANDARD
DTSTART:20251102T010000
TZOFFSETFROM:-0400
TZOFFSETTO:-0500
END:STANDARD
BEGIN:DAYLIGHT
DTSTART:20260308T010000
TZOFFSETFROM:-0500
TZOFFSETTO:-0400
END:DAYLIGHT
END:VTIMEZONE
BEGIN:VTIMEZONE
TZID:UTC
BEGIN:STANDARD
DTSTART:20250727T094427
TZOFFSETFROM:+0000
TZOFFSETTO:+0000
END:STANDARD
END:VTIMEZONE
BEGIN:VEVENT
UID:69e9e9fbe0c7a
DTSTAMP:20260423T094427Z
SUMMARY:Lessons on Fraud Prevention from Sam Bankman-Fried's Crypto
LOCATION: 
URL:https://macpa.org/catalog/events/21234282-lessons-on-fraud-prevention-f
 rom-sam-bankman-frieds-crypto-2026-28-04
DTSTART;TZID=America/New_York:20260428T120000
DTEND;TZID=America/New_York:20260428T140000
END:VEVENT
END:VCALENDAR