BEGIN:VCALENDAR
VERSION:2.0
PRODID:spatie/icalendar-generator
NAME:Leverage PowerBI.com to Create Data Analysis for Others
X-WR-CALNAME:Leverage PowerBI.com to Create Data Analysis for Others
BEGIN:VTIMEZONE
TZID:America/New_York
BEGIN:STANDARD
DTSTART:20251102T010000
TZOFFSETFROM:-0400
TZOFFSETTO:-0500
END:STANDARD
BEGIN:DAYLIGHT
DTSTART:20260308T010000
TZOFFSETFROM:-0500
TZOFFSETTO:-0400
END:DAYLIGHT
END:VTIMEZONE
BEGIN:VTIMEZONE
TZID:UTC
BEGIN:STANDARD
DTSTART:20250727T180510
TZOFFSETFROM:+0000
TZOFFSETTO:+0000
END:STANDARD
END:VTIMEZONE
BEGIN:VEVENT
UID:69ea5f568c6a1
DTSTAMP:20260423T180510Z
SUMMARY:Leverage PowerBI.com to Create Data Analysis for Others
LOCATION: 
URL:https://macpa.org/catalog/events/21233735-leverage-powerbicom-to-create
 -data-analysis-for-others-2026-27-04
DTSTART;TZID=America/New_York:20260427T113000
DTEND;TZID=America/New_York:20260427T133000
END:VEVENT
END:VCALENDAR