BEGIN:VCALENDAR
VERSION:2.0
PRODID:spatie/icalendar-generator
NAME:Ethical Performance Management
X-WR-CALNAME:Ethical Performance Management
BEGIN:VTIMEZONE
TZID:America/New_York
BEGIN:STANDARD
DTSTART:20251102T010000
TZOFFSETFROM:-0400
TZOFFSETTO:-0500
END:STANDARD
BEGIN:DAYLIGHT
DTSTART:20260308T010000
TZOFFSETFROM:-0500
TZOFFSETTO:-0400
END:DAYLIGHT
END:VTIMEZONE
BEGIN:VTIMEZONE
TZID:UTC
BEGIN:STANDARD
DTSTART:20250727T145511
TZOFFSETFROM:+0000
TZOFFSETTO:+0000
END:STANDARD
END:VTIMEZONE
BEGIN:VEVENT
UID:69ea32cf367c5
DTSTAMP:20260423T145511Z
SUMMARY:Ethical Performance Management
LOCATION: 
URL:https://macpa.org/catalog/events/21233443-ethical-performance-managemen
 t-2026-24-04
DTSTART;TZID=America/New_York:20260424T160000
DTEND;TZID=America/New_York:20260424T180000
END:VEVENT
END:VCALENDAR