BEGIN:VCALENDAR
VERSION:2.0
PRODID:spatie/icalendar-generator
NAME:Financial Decisions that Led Two Businessmen to Prison
X-WR-CALNAME:Financial Decisions that Led Two Businessmen to Prison
BEGIN:VTIMEZONE
TZID:America/New_York
BEGIN:STANDARD
DTSTART:20251102T010000
TZOFFSETFROM:-0400
TZOFFSETTO:-0500
END:STANDARD
BEGIN:DAYLIGHT
DTSTART:20260308T010000
TZOFFSETFROM:-0500
TZOFFSETTO:-0400
END:DAYLIGHT
END:VTIMEZONE
BEGIN:VTIMEZONE
TZID:UTC
BEGIN:STANDARD
DTSTART:20250727T134452
TZOFFSETFROM:+0000
TZOFFSETTO:+0000
END:STANDARD
END:VTIMEZONE
BEGIN:VEVENT
UID:69ea2254af065
DTSTAMP:20260423T134452Z
SUMMARY:Financial Decisions that Led Two Businessmen to Prison
LOCATION: 
URL:https://macpa.org/catalog/events/21233234-financial-decisions-that-led-
 two-businessmen-to-prison-2026-24-04
DTSTART;TZID=America/New_York:20260424T120000
DTEND;TZID=America/New_York:20260424T140000
END:VEVENT
END:VCALENDAR