BEGIN:VCALENDAR
VERSION:2.0
PRODID:spatie/icalendar-generator
NAME:Microsoft Outlook \"Must Know\" Email Tips
X-WR-CALNAME:Microsoft Outlook \"Must Know\" Email Tips
BEGIN:VTIMEZONE
TZID:America/New_York
BEGIN:STANDARD
DTSTART:20251102T010000
TZOFFSETFROM:-0400
TZOFFSETTO:-0500
END:STANDARD
BEGIN:DAYLIGHT
DTSTART:20260308T010000
TZOFFSETFROM:-0500
TZOFFSETTO:-0400
END:DAYLIGHT
END:VTIMEZONE
BEGIN:VTIMEZONE
TZID:UTC
BEGIN:STANDARD
DTSTART:20250727T094736
TZOFFSETFROM:+0000
TZOFFSETTO:+0000
END:STANDARD
END:VTIMEZONE
BEGIN:VEVENT
UID:69e9eab8de8dd
DTSTAMP:20260423T094736Z
SUMMARY:Microsoft Outlook \"Must Know\" Email Tips
LOCATION: 
URL:https://macpa.org/catalog/events/21233126-microsoft-outlook-must-know-e
 mail-tips-2026-24-04
DTSTART;TZID=America/New_York:20260424T103000
DTEND;TZID=America/New_York:20260424T123000
END:VEVENT
END:VCALENDAR