BEGIN:VCALENDAR
VERSION:2.0
PRODID:spatie/icalendar-generator
NAME:Create Paginated Reports with Power BI Report Builder
X-WR-CALNAME:Create Paginated Reports with Power BI Report Builder
BEGIN:VTIMEZONE
TZID:America/New_York
BEGIN:STANDARD
DTSTART:20251102T010000
TZOFFSETFROM:-0400
TZOFFSETTO:-0500
END:STANDARD
BEGIN:DAYLIGHT
DTSTART:20260308T010000
TZOFFSETFROM:-0500
TZOFFSETTO:-0400
END:DAYLIGHT
END:VTIMEZONE
BEGIN:VTIMEZONE
TZID:UTC
BEGIN:STANDARD
DTSTART:20250727T095047
TZOFFSETFROM:+0000
TZOFFSETTO:+0000
END:STANDARD
END:VTIMEZONE
BEGIN:VEVENT
UID:69e9eb77cddb2
DTSTAMP:20260423T095047Z
SUMMARY:Create Paginated Reports with Power BI Report Builder
LOCATION: 
URL:https://macpa.org/catalog/events/21233102-create-paginated-reports-with
 -power-bi-report-builder-2026-24-04
DTSTART;TZID=America/New_York:20260424T100000
DTEND;TZID=America/New_York:20260424T120000
END:VEVENT
END:VCALENDAR