BEGIN:VCALENDAR
VERSION:2.0
PRODID:spatie/icalendar-generator
NAME:Ethical Considerations in Working with Cannabis
X-WR-CALNAME:Ethical Considerations in Working with Cannabis
BEGIN:VTIMEZONE
TZID:America/New_York
BEGIN:STANDARD
DTSTART:20251102T010000
TZOFFSETFROM:-0400
TZOFFSETTO:-0500
END:STANDARD
BEGIN:DAYLIGHT
DTSTART:20260308T010000
TZOFFSETFROM:-0500
TZOFFSETTO:-0400
END:DAYLIGHT
END:VTIMEZONE
BEGIN:VTIMEZONE
TZID:UTC
BEGIN:STANDARD
DTSTART:20250727T150031
TZOFFSETFROM:+0000
TZOFFSETTO:+0000
END:STANDARD
END:VTIMEZONE
BEGIN:VEVENT
UID:69ea340fe92ec
DTSTAMP:20260423T150031Z
SUMMARY:Ethical Considerations in Working with Cannabis
LOCATION: 
URL:https://macpa.org/catalog/events/21232799-ethical-considerations-in-wor
 king-with-cannabis-2026-23-04
DTSTART;TZID=America/New_York:20260423T130000
DTEND;TZID=America/New_York:20260423T140000
END:VEVENT
END:VCALENDAR