BEGIN:VCALENDAR
VERSION:2.0
PRODID:spatie/icalendar-generator
NAME:Becoming Conflict Competent
X-WR-CALNAME:Becoming Conflict Competent
BEGIN:VTIMEZONE
TZID:America/New_York
BEGIN:STANDARD
DTSTART:20251102T010000
TZOFFSETFROM:-0400
TZOFFSETTO:-0500
END:STANDARD
BEGIN:DAYLIGHT
DTSTART:20260308T010000
TZOFFSETFROM:-0500
TZOFFSETTO:-0400
END:DAYLIGHT
END:VTIMEZONE
BEGIN:VTIMEZONE
TZID:UTC
BEGIN:STANDARD
DTSTART:20250727T162623
TZOFFSETFROM:+0000
TZOFFSETTO:+0000
END:STANDARD
END:VTIMEZONE
BEGIN:VEVENT
UID:69ea482f787e0
DTSTAMP:20260423T162623Z
SUMMARY:Becoming Conflict Competent
LOCATION: 
URL:https://macpa.org/catalog/events/21232749-becoming-conflict-competent-2
 026-23-04
DTSTART;TZID=America/New_York:20260423T123000
DTEND;TZID=America/New_York:20260423T143000
END:VEVENT
END:VCALENDAR