BEGIN:VCALENDAR
VERSION:2.0
PRODID:spatie/icalendar-generator
NAME:Understanding the New Forms K-2 and K-3
X-WR-CALNAME:Understanding the New Forms K-2 and K-3
BEGIN:VTIMEZONE
TZID:America/New_York
BEGIN:STANDARD
DTSTART:20251102T010000
TZOFFSETFROM:-0400
TZOFFSETTO:-0500
END:STANDARD
BEGIN:DAYLIGHT
DTSTART:20260308T010000
TZOFFSETFROM:-0500
TZOFFSETTO:-0400
END:DAYLIGHT
END:VTIMEZONE
BEGIN:VTIMEZONE
TZID:UTC
BEGIN:STANDARD
DTSTART:20250727T150325
TZOFFSETFROM:+0000
TZOFFSETTO:+0000
END:STANDARD
END:VTIMEZONE
BEGIN:VEVENT
UID:69ea34bd7baaf
DTSTAMP:20260423T150325Z
SUMMARY:Understanding the New Forms K-2 and K-3
LOCATION: 
URL:https://macpa.org/catalog/events/21232731-understanding-the-new-forms-k
 -2-and-k-3-2026-23-04
DTSTART;TZID=America/New_York:20260423T120000
DTEND;TZID=America/New_York:20260423T140000
END:VEVENT
END:VCALENDAR