BEGIN:VCALENDAR
VERSION:2.0
PRODID:spatie/icalendar-generator
NAME:The Art of Engaging in Difficult Conversations
X-WR-CALNAME:The Art of Engaging in Difficult Conversations
BEGIN:VTIMEZONE
TZID:America/New_York
BEGIN:STANDARD
DTSTART:20251102T010000
TZOFFSETFROM:-0400
TZOFFSETTO:-0500
END:STANDARD
BEGIN:DAYLIGHT
DTSTART:20260308T010000
TZOFFSETFROM:-0500
TZOFFSETTO:-0400
END:DAYLIGHT
END:VTIMEZONE
BEGIN:VTIMEZONE
TZID:UTC
BEGIN:STANDARD
DTSTART:20250727T094600
TZOFFSETFROM:+0000
TZOFFSETTO:+0000
END:STANDARD
END:VTIMEZONE
BEGIN:VEVENT
UID:69e9ea5894eae
DTSTAMP:20260423T094600Z
SUMMARY:The Art of Engaging in Difficult Conversations
LOCATION: 
URL:https://macpa.org/catalog/events/21232448-the-art-of-engaging-in-diffic
 ult-conversations-2026-22-04
DTSTART;TZID=America/New_York:20260422T160000
DTEND;TZID=America/New_York:20260422T180000
END:VEVENT
END:VCALENDAR