BEGIN:VCALENDAR
VERSION:2.0
PRODID:spatie/icalendar-generator
NAME:Common Financial Statement Disclosures
X-WR-CALNAME:Common Financial Statement Disclosures
BEGIN:VTIMEZONE
TZID:America/New_York
BEGIN:STANDARD
DTSTART:20251102T010000
TZOFFSETFROM:-0400
TZOFFSETTO:-0500
END:STANDARD
BEGIN:DAYLIGHT
DTSTART:20260308T010000
TZOFFSETFROM:-0500
TZOFFSETTO:-0400
END:DAYLIGHT
END:VTIMEZONE
BEGIN:VTIMEZONE
TZID:UTC
BEGIN:STANDARD
DTSTART:20250727T150422
TZOFFSETFROM:+0000
TZOFFSETTO:+0000
END:STANDARD
END:VTIMEZONE
BEGIN:VEVENT
UID:69ea34f6b125f
DTSTAMP:20260423T150422Z
SUMMARY:Common Financial Statement Disclosures
LOCATION: 
URL:https://macpa.org/catalog/events/21232393-common-financial-statement-di
 sclosures-2026-22-04
DTSTART;TZID=America/New_York:20260422T143000
DTEND;TZID=America/New_York:20260422T163000
END:VEVENT
END:VCALENDAR