BEGIN:VCALENDAR
VERSION:2.0
PRODID:spatie/icalendar-generator
NAME:Behind the Curtain: Exploring IRS Audit Technique Guides
X-WR-CALNAME:Behind the Curtain: Exploring IRS Audit Technique Guides
BEGIN:VTIMEZONE
TZID:America/New_York
BEGIN:STANDARD
DTSTART:20251102T010000
TZOFFSETFROM:-0400
TZOFFSETTO:-0500
END:STANDARD
BEGIN:DAYLIGHT
DTSTART:20260308T010000
TZOFFSETFROM:-0500
TZOFFSETTO:-0400
END:DAYLIGHT
END:VTIMEZONE
BEGIN:VTIMEZONE
TZID:UTC
BEGIN:STANDARD
DTSTART:20250727T094638
TZOFFSETFROM:+0000
TZOFFSETTO:+0000
END:STANDARD
END:VTIMEZONE
BEGIN:VEVENT
UID:69e9ea7ec2a0b
DTSTAMP:20260423T094638Z
SUMMARY:Behind the Curtain: Exploring IRS Audit Technique Guides
LOCATION: 
URL:https://macpa.org/catalog/events/21232331-behind-the-curtain-exploring-
 irs-audit-technique-guides-2026-22-04
DTSTART;TZID=America/New_York:20260422T133000
DTEND;TZID=America/New_York:20260422T153000
END:VEVENT
END:VCALENDAR