BEGIN:VCALENDAR
VERSION:2.0
PRODID:spatie/icalendar-generator
NAME:Master the Art of CPA Communication: Boost Your Influence!
X-WR-CALNAME:Master the Art of CPA Communication: Boost Your Influence!
BEGIN:VTIMEZONE
TZID:America/New_York
BEGIN:STANDARD
DTSTART:20251102T010000
TZOFFSETFROM:-0400
TZOFFSETTO:-0500
END:STANDARD
BEGIN:DAYLIGHT
DTSTART:20260308T010000
TZOFFSETFROM:-0500
TZOFFSETTO:-0400
END:DAYLIGHT
END:VTIMEZONE
BEGIN:VTIMEZONE
TZID:UTC
BEGIN:STANDARD
DTSTART:20250727T162911
TZOFFSETFROM:+0000
TZOFFSETTO:+0000
END:STANDARD
END:VTIMEZONE
BEGIN:VEVENT
UID:69ea48d78068c
DTSTAMP:20260423T162911Z
SUMMARY:Master the Art of CPA Communication: Boost Your Influence!
LOCATION: 
URL:https://macpa.org/catalog/events/21232285-master-the-art-of-cpa-communi
 cation-boost-your-influence-2026-22-04
DTSTART;TZID=America/New_York:20260422T130000
DTEND;TZID=America/New_York:20260422T170000
END:VEVENT
END:VCALENDAR