BEGIN:VCALENDAR
VERSION:2.0
PRODID:spatie/icalendar-generator
NAME:Retaining Talent in a Competitive Marketplace
X-WR-CALNAME:Retaining Talent in a Competitive Marketplace
BEGIN:VTIMEZONE
TZID:America/New_York
BEGIN:STANDARD
DTSTART:20251102T010000
TZOFFSETFROM:-0400
TZOFFSETTO:-0500
END:STANDARD
BEGIN:DAYLIGHT
DTSTART:20260308T010000
TZOFFSETFROM:-0500
TZOFFSETTO:-0400
END:DAYLIGHT
END:VTIMEZONE
BEGIN:VTIMEZONE
TZID:UTC
BEGIN:STANDARD
DTSTART:20250727T133904
TZOFFSETFROM:+0000
TZOFFSETTO:+0000
END:STANDARD
END:VTIMEZONE
BEGIN:VEVENT
UID:69ea20f813e12
DTSTAMP:20260423T133904Z
SUMMARY:Retaining Talent in a Competitive Marketplace
LOCATION: 
URL:https://macpa.org/catalog/events/21232150-retaining-talent-in-a-competi
 tive-marketplace-2026-22-04
DTSTART;TZID=America/New_York:20260422T110000
DTEND;TZID=America/New_York:20260422T150000
END:VEVENT
END:VCALENDAR