BEGIN:VCALENDAR
VERSION:2.0
PRODID:spatie/icalendar-generator
NAME:How Much Are Your Ethics Worth?
X-WR-CALNAME:How Much Are Your Ethics Worth?
BEGIN:VTIMEZONE
TZID:America/New_York
BEGIN:STANDARD
DTSTART:20251102T010000
TZOFFSETFROM:-0400
TZOFFSETTO:-0500
END:STANDARD
BEGIN:DAYLIGHT
DTSTART:20260308T010000
TZOFFSETFROM:-0500
TZOFFSETTO:-0400
END:DAYLIGHT
END:VTIMEZONE
BEGIN:VTIMEZONE
TZID:UTC
BEGIN:STANDARD
DTSTART:20250727T132951
TZOFFSETFROM:+0000
TZOFFSETTO:+0000
END:STANDARD
END:VTIMEZONE
BEGIN:VEVENT
UID:69ea1ecf21e6e
DTSTAMP:20260423T132951Z
SUMMARY:How Much Are Your Ethics Worth?
LOCATION: 
URL:https://macpa.org/catalog/events/21232141-how-much-are-your-ethics-wort
 h-2026-22-04
DTSTART;TZID=America/New_York:20260422T103000
DTEND;TZID=America/New_York:20260422T123000
END:VEVENT
END:VCALENDAR