BEGIN:VCALENDAR
VERSION:2.0
PRODID:spatie/icalendar-generator
NAME:Will Your Ethics Be Burned by Burnout?
X-WR-CALNAME:Will Your Ethics Be Burned by Burnout?
BEGIN:VTIMEZONE
TZID:America/New_York
BEGIN:STANDARD
DTSTART:20251102T010000
TZOFFSETFROM:-0400
TZOFFSETTO:-0500
END:STANDARD
BEGIN:DAYLIGHT
DTSTART:20260308T010000
TZOFFSETFROM:-0500
TZOFFSETTO:-0400
END:DAYLIGHT
END:VTIMEZONE
BEGIN:VTIMEZONE
TZID:UTC
BEGIN:STANDARD
DTSTART:20250727T094908
TZOFFSETFROM:+0000
TZOFFSETTO:+0000
END:STANDARD
END:VTIMEZONE
BEGIN:VEVENT
UID:69e9eb14d5ec6
DTSTAMP:20260423T094908Z
SUMMARY:Will Your Ethics Be Burned by Burnout?
LOCATION: 
URL:https://macpa.org/catalog/events/21232086-will-your-ethics-be-burned-by
 -burnout-2026-22-04
DTSTART;TZID=America/New_York:20260422T093000
DTEND;TZID=America/New_York:20260422T113000
END:VEVENT
END:VCALENDAR