BEGIN:VCALENDAR
VERSION:2.0
PRODID:spatie/icalendar-generator
NAME:Tax Season Update for Business with Steve Dilley
X-WR-CALNAME:Tax Season Update for Business with Steve Dilley
BEGIN:VTIMEZONE
TZID:America/New_York
BEGIN:STANDARD
DTSTART:20251102T010000
TZOFFSETFROM:-0400
TZOFFSETTO:-0500
END:STANDARD
BEGIN:DAYLIGHT
DTSTART:20260308T010000
TZOFFSETFROM:-0500
TZOFFSETTO:-0400
END:DAYLIGHT
END:VTIMEZONE
BEGIN:VTIMEZONE
TZID:UTC
BEGIN:STANDARD
DTSTART:20250727T150238
TZOFFSETFROM:+0000
TZOFFSETTO:+0000
END:STANDARD
END:VTIMEZONE
BEGIN:VEVENT
UID:69ea348ebd6e9
DTSTAMP:20260423T150238Z
SUMMARY:Tax Season Update for Business with Steve Dilley
LOCATION: 
URL:https://macpa.org/catalog/events/21232060-tax-season-update-for-busines
 s-with-steve-dilley-2026-22-04
DTSTART;TZID=America/New_York:20260422T093000
DTEND;TZID=America/New_York:20260422T133000
END:VEVENT
END:VCALENDAR