BEGIN:VCALENDAR
VERSION:2.0
PRODID:spatie/icalendar-generator
NAME:SEC Case Studies: Ethical Dilemmas in Finance and Accounting
X-WR-CALNAME:SEC Case Studies: Ethical Dilemmas in Finance and Accounting
BEGIN:VTIMEZONE
TZID:America/New_York
BEGIN:STANDARD
DTSTART:20251102T010000
TZOFFSETFROM:-0400
TZOFFSETTO:-0500
END:STANDARD
BEGIN:DAYLIGHT
DTSTART:20260308T010000
TZOFFSETFROM:-0500
TZOFFSETTO:-0400
END:DAYLIGHT
END:VTIMEZONE
BEGIN:VTIMEZONE
TZID:UTC
BEGIN:STANDARD
DTSTART:20250727T163150
TZOFFSETFROM:+0000
TZOFFSETTO:+0000
END:STANDARD
END:VTIMEZONE
BEGIN:VEVENT
UID:69ea4976bb5f2
DTSTAMP:20260423T163150Z
SUMMARY:SEC Case Studies: Ethical Dilemmas in Finance and Accounting
LOCATION: 
URL:https://macpa.org/catalog/events/21231909-sec-case-studies-ethical-dile
 mmas-in-finance-and-accounting-2026-21-04
DTSTART;TZID=America/New_York:20260421T160000
DTEND;TZID=America/New_York:20260421T180000
END:VEVENT
END:VCALENDAR