BEGIN:VCALENDAR
VERSION:2.0
PRODID:spatie/icalendar-generator
NAME:Exploring Internal Controls That Could Have Prevented Frauds
X-WR-CALNAME:Exploring Internal Controls That Could Have Prevented Frauds
BEGIN:VTIMEZONE
TZID:America/New_York
BEGIN:STANDARD
DTSTART:20251102T010000
TZOFFSETFROM:-0400
TZOFFSETTO:-0500
END:STANDARD
BEGIN:DAYLIGHT
DTSTART:20260308T010000
TZOFFSETFROM:-0500
TZOFFSETTO:-0400
END:DAYLIGHT
END:VTIMEZONE
BEGIN:VTIMEZONE
TZID:UTC
BEGIN:STANDARD
DTSTART:20250727T094940
TZOFFSETFROM:+0000
TZOFFSETTO:+0000
END:STANDARD
END:VTIMEZONE
BEGIN:VEVENT
UID:69e9eb3420995
DTSTAMP:20260423T094940Z
SUMMARY:Exploring Internal Controls That Could Have Prevented Frauds
LOCATION: 
URL:https://macpa.org/catalog/events/21231879-exploring-internal-controls-t
 hat-could-have-prevented-frauds-2026-21-04
DTSTART;TZID=America/New_York:20260421T150000
DTEND;TZID=America/New_York:20260421T170000
END:VEVENT
END:VCALENDAR