BEGIN:VCALENDAR
VERSION:2.0
PRODID:spatie/icalendar-generator
NAME:Accountants and Malpractice: Can We Get Sued for This?
X-WR-CALNAME:Accountants and Malpractice: Can We Get Sued for This?
BEGIN:VTIMEZONE
TZID:America/New_York
BEGIN:STANDARD
DTSTART:20251102T010000
TZOFFSETFROM:-0400
TZOFFSETTO:-0500
END:STANDARD
BEGIN:DAYLIGHT
DTSTART:20260308T010000
TZOFFSETFROM:-0500
TZOFFSETTO:-0400
END:DAYLIGHT
END:VTIMEZONE
BEGIN:VTIMEZONE
TZID:UTC
BEGIN:STANDARD
DTSTART:20250727T095012
TZOFFSETFROM:+0000
TZOFFSETTO:+0000
END:STANDARD
END:VTIMEZONE
BEGIN:VEVENT
UID:69e9eb54047ca
DTSTAMP:20260423T095012Z
SUMMARY:Accountants and Malpractice: Can We Get Sued for This?
LOCATION: 
URL:https://macpa.org/catalog/events/21231708-accountants-and-malpractice-c
 an-we-get-sued-for-this-2026-21-04
DTSTART;TZID=America/New_York:20260421T120000
DTEND;TZID=America/New_York:20260421T140000
END:VEVENT
END:VCALENDAR