BEGIN:VCALENDAR
VERSION:2.0
PRODID:spatie/icalendar-generator
NAME:Ethics: 10 Crucial Qualities of High Character CPAs
X-WR-CALNAME:Ethics: 10 Crucial Qualities of High Character CPAs
BEGIN:VTIMEZONE
TZID:America/New_York
BEGIN:STANDARD
DTSTART:20251102T010000
TZOFFSETFROM:-0400
TZOFFSETTO:-0500
END:STANDARD
BEGIN:DAYLIGHT
DTSTART:20260308T010000
TZOFFSETFROM:-0500
TZOFFSETTO:-0400
END:DAYLIGHT
END:VTIMEZONE
BEGIN:VTIMEZONE
TZID:UTC
BEGIN:STANDARD
DTSTART:20250727T150044
TZOFFSETFROM:+0000
TZOFFSETTO:+0000
END:STANDARD
END:VTIMEZONE
BEGIN:VEVENT
UID:69ea341c7945c
DTSTAMP:20260423T150044Z
SUMMARY:Ethics: 10 Crucial Qualities of High Character CPAs
LOCATION: 
URL:https://macpa.org/catalog/events/21231625-ethics-10-crucial-qualities-o
 f-high-character-cpas-2026-21-04
DTSTART;TZID=America/New_York:20260421T103000
DTEND;TZID=America/New_York:20260421T123000
END:VEVENT
END:VCALENDAR