BEGIN:VCALENDAR
VERSION:2.0
PRODID:spatie/icalendar-generator
NAME:Improve Spreadsheets by Building Controls in Excel
X-WR-CALNAME:Improve Spreadsheets by Building Controls in Excel
BEGIN:VTIMEZONE
TZID:America/New_York
BEGIN:STANDARD
DTSTART:20251102T010000
TZOFFSETFROM:-0400
TZOFFSETTO:-0500
END:STANDARD
BEGIN:DAYLIGHT
DTSTART:20260308T010000
TZOFFSETFROM:-0500
TZOFFSETTO:-0400
END:DAYLIGHT
END:VTIMEZONE
BEGIN:VTIMEZONE
TZID:UTC
BEGIN:STANDARD
DTSTART:20250727T094438
TZOFFSETFROM:+0000
TZOFFSETTO:+0000
END:STANDARD
END:VTIMEZONE
BEGIN:VEVENT
UID:69e9ea062934d
DTSTAMP:20260423T094438Z
SUMMARY:Improve Spreadsheets by Building Controls in Excel
LOCATION: 
URL:https://macpa.org/catalog/events/21231572-improve-spreadsheets-by-build
 ing-controls-in-excel-2026-21-04
DTSTART;TZID=America/New_York:20260421T093000
DTEND;TZID=America/New_York:20260421T113000
END:VEVENT
END:VCALENDAR