BEGIN:VCALENDAR
VERSION:2.0
PRODID:spatie/icalendar-generator
NAME:ChatGPT and IRS Taxation Law Research
X-WR-CALNAME:ChatGPT and IRS Taxation Law Research
BEGIN:VTIMEZONE
TZID:America/New_York
BEGIN:STANDARD
DTSTART:20251102T010000
TZOFFSETFROM:-0400
TZOFFSETTO:-0500
END:STANDARD
BEGIN:DAYLIGHT
DTSTART:20260308T010000
TZOFFSETFROM:-0500
TZOFFSETTO:-0400
END:DAYLIGHT
END:VTIMEZONE
BEGIN:VTIMEZONE
TZID:UTC
BEGIN:STANDARD
DTSTART:20250727T133517
TZOFFSETFROM:+0000
TZOFFSETTO:+0000
END:STANDARD
END:VTIMEZONE
BEGIN:VEVENT
UID:69ea20157669b
DTSTAMP:20260423T133517Z
SUMMARY:ChatGPT and IRS Taxation Law Research
LOCATION: 
URL:https://macpa.org/catalog/events/21231469-chatgpt-and-irs-taxation-law-
 research-2026-20-04
DTSTART;TZID=America/New_York:20260420T153000
DTEND;TZID=America/New_York:20260420T173000
END:VEVENT
END:VCALENDAR