BEGIN:VCALENDAR
VERSION:2.0
PRODID:spatie/icalendar-generator
NAME:Using e-Signature Software to Process Agreements-Updated
X-WR-CALNAME:Using e-Signature Software to Process Agreements-Updated
BEGIN:VTIMEZONE
TZID:America/New_York
BEGIN:STANDARD
DTSTART:20251102T010000
TZOFFSETFROM:-0400
TZOFFSETTO:-0500
END:STANDARD
BEGIN:DAYLIGHT
DTSTART:20260308T010000
TZOFFSETFROM:-0500
TZOFFSETTO:-0400
END:DAYLIGHT
END:VTIMEZONE
BEGIN:VTIMEZONE
TZID:UTC
BEGIN:STANDARD
DTSTART:20250727T114438
TZOFFSETFROM:+0000
TZOFFSETTO:+0000
END:STANDARD
END:VTIMEZONE
BEGIN:VEVENT
UID:69ea062642f4e
DTSTAMP:20260423T114438Z
SUMMARY:Using e-Signature Software to Process Agreements-Updated
LOCATION: 
URL:https://macpa.org/catalog/events/21231418-using-e-signature-software-to
 -process-agreements-updated-2026-20-04
DTSTART;TZID=America/New_York:20260420T143000
DTEND;TZID=America/New_York:20260420T163000
END:VEVENT
END:VCALENDAR