BEGIN:VCALENDAR
VERSION:2.0
PRODID:spatie/icalendar-generator
NAME:Navigating IRS Authorizations: Form 2848 & Form 8821
X-WR-CALNAME:Navigating IRS Authorizations: Form 2848 & Form 8821
BEGIN:VTIMEZONE
TZID:America/New_York
BEGIN:STANDARD
DTSTART:20251102T010000
TZOFFSETFROM:-0400
TZOFFSETTO:-0500
END:STANDARD
BEGIN:DAYLIGHT
DTSTART:20260308T010000
TZOFFSETFROM:-0500
TZOFFSETTO:-0400
END:DAYLIGHT
END:VTIMEZONE
BEGIN:VTIMEZONE
TZID:UTC
BEGIN:STANDARD
DTSTART:20250727T094727
TZOFFSETFROM:+0000
TZOFFSETTO:+0000
END:STANDARD
END:VTIMEZONE
BEGIN:VEVENT
UID:69e9eaaf2dd79
DTSTAMP:20260423T094727Z
SUMMARY:Navigating IRS Authorizations: Form 2848 & Form 8821
LOCATION: 
URL:https://macpa.org/catalog/events/21231392-navigating-irs-authorizations
 -form-2848-form-8821-2026-20-04
DTSTART;TZID=America/New_York:20260420T140000
DTEND;TZID=America/New_York:20260420T160000
END:VEVENT
END:VCALENDAR