BEGIN:VCALENDAR
VERSION:2.0
PRODID:spatie/icalendar-generator
NAME:Everyday Ethics at Work: Don't be the Next News Story!
X-WR-CALNAME:Everyday Ethics at Work: Don't be the Next News Story!
BEGIN:VTIMEZONE
TZID:America/New_York
BEGIN:STANDARD
DTSTART:20251102T010000
TZOFFSETFROM:-0400
TZOFFSETTO:-0500
END:STANDARD
BEGIN:DAYLIGHT
DTSTART:20260308T010000
TZOFFSETFROM:-0500
TZOFFSETTO:-0400
END:DAYLIGHT
END:VTIMEZONE
BEGIN:VTIMEZONE
TZID:UTC
BEGIN:STANDARD
DTSTART:20250727T162919
TZOFFSETFROM:+0000
TZOFFSETTO:+0000
END:STANDARD
END:VTIMEZONE
BEGIN:VEVENT
UID:69ea48df33e49
DTSTAMP:20260423T162919Z
SUMMARY:Everyday Ethics at Work: Don't be the Next News Story!
LOCATION: 
URL:https://macpa.org/catalog/events/21231347-everyday-ethics-at-work-dont-
 be-the-next-news-story-2026-20-04
DTSTART;TZID=America/New_York:20260420T133000
DTEND;TZID=America/New_York:20260420T153000
END:VEVENT
END:VCALENDAR