BEGIN:VCALENDAR
VERSION:2.0
PRODID:spatie/icalendar-generator
NAME:Finding Errors in Excel Spreadsheets
X-WR-CALNAME:Finding Errors in Excel Spreadsheets
BEGIN:VTIMEZONE
TZID:America/New_York
BEGIN:STANDARD
DTSTART:20251102T010000
TZOFFSETFROM:-0400
TZOFFSETTO:-0500
END:STANDARD
BEGIN:DAYLIGHT
DTSTART:20260308T010000
TZOFFSETFROM:-0500
TZOFFSETTO:-0400
END:DAYLIGHT
END:VTIMEZONE
BEGIN:VTIMEZONE
TZID:UTC
BEGIN:STANDARD
DTSTART:20250727T145342
TZOFFSETFROM:+0000
TZOFFSETTO:+0000
END:STANDARD
END:VTIMEZONE
BEGIN:VEVENT
UID:69ea3276a691b
DTSTAMP:20260423T145342Z
SUMMARY:Finding Errors in Excel Spreadsheets
LOCATION: 
URL:https://macpa.org/catalog/events/21231148-finding-errors-in-excel-sprea
 dsheets-2026-20-04
DTSTART;TZID=America/New_York:20260420T103000
DTEND;TZID=America/New_York:20260420T123000
END:VEVENT
END:VCALENDAR