BEGIN:VCALENDAR
VERSION:2.0
PRODID:spatie/icalendar-generator
NAME:Walter Haig's AICPA Auditing Standards Update
X-WR-CALNAME:Walter Haig's AICPA Auditing Standards Update
BEGIN:VTIMEZONE
TZID:America/New_York
BEGIN:STANDARD
DTSTART:20251102T010000
TZOFFSETFROM:-0400
TZOFFSETTO:-0500
END:STANDARD
BEGIN:DAYLIGHT
DTSTART:20260308T010000
TZOFFSETFROM:-0500
TZOFFSETTO:-0400
END:DAYLIGHT
END:VTIMEZONE
BEGIN:VTIMEZONE
TZID:UTC
BEGIN:STANDARD
DTSTART:20250727T095011
TZOFFSETFROM:+0000
TZOFFSETTO:+0000
END:STANDARD
END:VTIMEZONE
BEGIN:VEVENT
UID:69e9eb53d070e
DTSTAMP:20260423T095011Z
SUMMARY:Walter Haig's AICPA Auditing Standards Update
LOCATION: 
URL:https://macpa.org/catalog/events/21231076-walter-haigs-aicpa-auditing-s
 tandards-update-2026-20-04
DTSTART;TZID=America/New_York:20260420T090000
DTEND;TZID=America/New_York:20260420T170000
END:VEVENT
END:VCALENDAR