BEGIN:VCALENDAR
VERSION:2.0
PRODID:spatie/icalendar-generator
NAME:Integrity\, Objectivity and Judgment: Values in Action
X-WR-CALNAME:Integrity\, Objectivity and Judgment: Values in Action
BEGIN:VTIMEZONE
TZID:America/New_York
BEGIN:STANDARD
DTSTART:20251102T010000
TZOFFSETFROM:-0400
TZOFFSETTO:-0500
END:STANDARD
BEGIN:DAYLIGHT
DTSTART:20260308T010000
TZOFFSETFROM:-0500
TZOFFSETTO:-0400
END:DAYLIGHT
END:VTIMEZONE
BEGIN:VTIMEZONE
TZID:UTC
BEGIN:STANDARD
DTSTART:20250727T094358
TZOFFSETFROM:+0000
TZOFFSETTO:+0000
END:STANDARD
END:VTIMEZONE
BEGIN:VEVENT
UID:69e9e9de523a2
DTSTAMP:20260423T094358Z
SUMMARY:Integrity\, Objectivity and Judgment: Values in Action
LOCATION: 
URL:https://macpa.org/catalog/events/21231057-integrity-objectivity-and-jud
 gment-values-in-action-2026-20-04
DTSTART;TZID=America/New_York:20260420T090000
DTEND;TZID=America/New_York:20260420T100000
END:VEVENT
END:VCALENDAR