BEGIN:VCALENDAR
VERSION:2.0
PRODID:spatie/icalendar-generator
NAME:The 10 Must Know Excel Features
X-WR-CALNAME:The 10 Must Know Excel Features
BEGIN:VTIMEZONE
TZID:America/New_York
BEGIN:STANDARD
DTSTART:20251102T010000
TZOFFSETFROM:-0400
TZOFFSETTO:-0500
END:STANDARD
BEGIN:DAYLIGHT
DTSTART:20260308T010000
TZOFFSETFROM:-0500
TZOFFSETTO:-0400
END:DAYLIGHT
END:VTIMEZONE
BEGIN:VTIMEZONE
TZID:UTC
BEGIN:STANDARD
DTSTART:20250727T094418
TZOFFSETFROM:+0000
TZOFFSETTO:+0000
END:STANDARD
END:VTIMEZONE
BEGIN:VEVENT
UID:69e9e9f2e23a7
DTSTAMP:20260423T094418Z
SUMMARY:The 10 Must Know Excel Features
LOCATION: 
URL:https://macpa.org/catalog/events/21230947-the-10-must-know-excel-featur
 es-2026-17-04
DTSTART;TZID=America/New_York:20260417T150000
DTEND;TZID=America/New_York:20260417T170000
END:VEVENT
END:VCALENDAR