BEGIN:VCALENDAR
VERSION:2.0
PRODID:spatie/icalendar-generator
NAME:Business Tax Update: Recent Developments
X-WR-CALNAME:Business Tax Update: Recent Developments
BEGIN:VTIMEZONE
TZID:America/New_York
BEGIN:STANDARD
DTSTART:20251102T010000
TZOFFSETFROM:-0400
TZOFFSETTO:-0500
END:STANDARD
BEGIN:DAYLIGHT
DTSTART:20260308T010000
TZOFFSETFROM:-0500
TZOFFSETTO:-0400
END:DAYLIGHT
END:VTIMEZONE
BEGIN:VTIMEZONE
TZID:UTC
BEGIN:STANDARD
DTSTART:20250727T132857
TZOFFSETFROM:+0000
TZOFFSETTO:+0000
END:STANDARD
END:VTIMEZONE
BEGIN:VEVENT
UID:69ea1e994f6e5
DTSTAMP:20260423T132857Z
SUMMARY:Business Tax Update: Recent Developments
LOCATION: 
URL:https://macpa.org/catalog/events/21230608-business-tax-update-recent-de
 velopments-2026-17-04
DTSTART;TZID=America/New_York:20260417T100000
DTEND;TZID=America/New_York:20260417T120000
END:VEVENT
END:VCALENDAR