BEGIN:VCALENDAR
VERSION:2.0
PRODID:spatie/icalendar-generator
NAME:Accounting for the Gig Economy
X-WR-CALNAME:Accounting for the Gig Economy
BEGIN:VTIMEZONE
TZID:America/New_York
BEGIN:STANDARD
DTSTART:20251102T010000
TZOFFSETFROM:-0400
TZOFFSETTO:-0500
END:STANDARD
BEGIN:DAYLIGHT
DTSTART:20260308T010000
TZOFFSETFROM:-0500
TZOFFSETTO:-0400
END:DAYLIGHT
END:VTIMEZONE
BEGIN:VTIMEZONE
TZID:UTC
BEGIN:STANDARD
DTSTART:20250727T150457
TZOFFSETFROM:+0000
TZOFFSETTO:+0000
END:STANDARD
END:VTIMEZONE
BEGIN:VEVENT
UID:69ea351976bea
DTSTAMP:20260423T150457Z
SUMMARY:Accounting for the Gig Economy
LOCATION: 
URL:https://macpa.org/catalog/events/21230469-accounting-for-the-gig-econom
 y-2026-16-04
DTSTART;TZID=America/New_York:20260416T160000
DTEND;TZID=America/New_York:20260416T180000
END:VEVENT
END:VCALENDAR