BEGIN:VCALENDAR
VERSION:2.0
PRODID:spatie/icalendar-generator
NAME:What's Going on at the FASB (2025)
X-WR-CALNAME:What's Going on at the FASB (2025)
BEGIN:VTIMEZONE
TZID:America/New_York
BEGIN:STANDARD
DTSTART:20251102T010000
TZOFFSETFROM:-0400
TZOFFSETTO:-0500
END:STANDARD
BEGIN:DAYLIGHT
DTSTART:20260308T010000
TZOFFSETFROM:-0500
TZOFFSETTO:-0400
END:DAYLIGHT
END:VTIMEZONE
BEGIN:VTIMEZONE
TZID:UTC
BEGIN:STANDARD
DTSTART:20250727T095011
TZOFFSETFROM:+0000
TZOFFSETTO:+0000
END:STANDARD
END:VTIMEZONE
BEGIN:VEVENT
UID:69e9eb53cfed4
DTSTAMP:20260423T095011Z
SUMMARY:What's Going on at the FASB (2025)
LOCATION: 
URL:https://macpa.org/catalog/events/21230402-whats-going-on-at-the-fasb-20
 25-2026-16-04
DTSTART;TZID=America/New_York:20260416T143000
DTEND;TZID=America/New_York:20260416T163000
END:VEVENT
END:VCALENDAR