BEGIN:VCALENDAR
VERSION:2.0
PRODID:spatie/icalendar-generator
NAME:Current Cybersecurity Risk Management Trends
X-WR-CALNAME:Current Cybersecurity Risk Management Trends
BEGIN:VTIMEZONE
TZID:America/New_York
BEGIN:STANDARD
DTSTART:20251102T010000
TZOFFSETFROM:-0400
TZOFFSETTO:-0500
END:STANDARD
BEGIN:DAYLIGHT
DTSTART:20260308T010000
TZOFFSETFROM:-0500
TZOFFSETTO:-0400
END:DAYLIGHT
END:VTIMEZONE
BEGIN:VTIMEZONE
TZID:UTC
BEGIN:STANDARD
DTSTART:20250727T150339
TZOFFSETFROM:+0000
TZOFFSETTO:+0000
END:STANDARD
END:VTIMEZONE
BEGIN:VEVENT
UID:69ea34cb69a70
DTSTAMP:20260423T150339Z
SUMMARY:Current Cybersecurity Risk Management Trends
LOCATION: 
URL:https://macpa.org/catalog/events/21230231-current-cybersecurity-risk-ma
 nagement-trends-2026-16-04
DTSTART;TZID=America/New_York:20260416T120000
DTEND;TZID=America/New_York:20260416T140000
END:VEVENT
END:VCALENDAR