BEGIN:VCALENDAR
VERSION:2.0
PRODID:spatie/icalendar-generator
NAME:Advanced Excel for Staff - Build Reports and Analyze Data
X-WR-CALNAME:Advanced Excel for Staff - Build Reports and Analyze Data
BEGIN:VTIMEZONE
TZID:America/New_York
BEGIN:STANDARD
DTSTART:20251102T010000
TZOFFSETFROM:-0400
TZOFFSETTO:-0500
END:STANDARD
BEGIN:DAYLIGHT
DTSTART:20260308T010000
TZOFFSETFROM:-0500
TZOFFSETTO:-0400
END:DAYLIGHT
END:VTIMEZONE
BEGIN:VTIMEZONE
TZID:UTC
BEGIN:STANDARD
DTSTART:20250727T094908
TZOFFSETFROM:+0000
TZOFFSETTO:+0000
END:STANDARD
END:VTIMEZONE
BEGIN:VEVENT
UID:69e9eb14d7b6c
DTSTAMP:20260423T094908Z
SUMMARY:Advanced Excel for Staff - Build Reports and Analyze Data
LOCATION: 
URL:https://macpa.org/catalog/events/21230204-advanced-excel-for-staff-buil
 d-reports-and-analyze-data-2026-16-04
DTSTART;TZID=America/New_York:20260416T113000
DTEND;TZID=America/New_York:20260416T133000
END:VEVENT
END:VCALENDAR