BEGIN:VCALENDAR
VERSION:2.0
PRODID:spatie/icalendar-generator
NAME:Erase the Mark: Best Practices in Penalty Abatement
X-WR-CALNAME:Erase the Mark: Best Practices in Penalty Abatement
BEGIN:VTIMEZONE
TZID:America/New_York
BEGIN:STANDARD
DTSTART:20251102T010000
TZOFFSETFROM:-0400
TZOFFSETTO:-0500
END:STANDARD
BEGIN:DAYLIGHT
DTSTART:20260308T010000
TZOFFSETFROM:-0500
TZOFFSETTO:-0400
END:DAYLIGHT
END:VTIMEZONE
BEGIN:VTIMEZONE
TZID:UTC
BEGIN:STANDARD
DTSTART:20250727T094427
TZOFFSETFROM:+0000
TZOFFSETTO:+0000
END:STANDARD
END:VTIMEZONE
BEGIN:VEVENT
UID:69e9e9fbc907a
DTSTAMP:20260423T094427Z
SUMMARY:Erase the Mark: Best Practices in Penalty Abatement
LOCATION: 
URL:https://macpa.org/catalog/events/21229862-erase-the-mark-best-practices
 -in-penalty-abatement-2026-15-04
DTSTART;TZID=America/New_York:20260415T140000
DTEND;TZID=America/New_York:20260415T160000
END:VEVENT
END:VCALENDAR