BEGIN:VCALENDAR
VERSION:2.0
PRODID:spatie/icalendar-generator
NAME:Advanced ChatGPT for Accountants
X-WR-CALNAME:Advanced ChatGPT for Accountants
BEGIN:VTIMEZONE
TZID:America/New_York
BEGIN:STANDARD
DTSTART:20251102T010000
TZOFFSETFROM:-0400
TZOFFSETTO:-0500
END:STANDARD
BEGIN:DAYLIGHT
DTSTART:20260308T010000
TZOFFSETFROM:-0500
TZOFFSETTO:-0400
END:DAYLIGHT
END:VTIMEZONE
BEGIN:VTIMEZONE
TZID:UTC
BEGIN:STANDARD
DTSTART:20250728T001608
TZOFFSETFROM:+0000
TZOFFSETTO:+0000
END:STANDARD
END:VTIMEZONE
BEGIN:VEVENT
UID:69eab648cca0c
DTSTAMP:20260424T001608Z
SUMMARY:Advanced ChatGPT for Accountants
LOCATION: 
URL:https://macpa.org/catalog/events/21229584-advanced-chatgpt-for-accounta
 nts-2026-15-04
DTSTART;TZID=America/New_York:20260415T100000
DTEND;TZID=America/New_York:20260415T120000
END:VEVENT
END:VCALENDAR