BEGIN:VCALENDAR
VERSION:2.0
PRODID:spatie/icalendar-generator
NAME:Cryptocurrency 15 Years Later - A Market Update
X-WR-CALNAME:Cryptocurrency 15 Years Later - A Market Update
BEGIN:VTIMEZONE
TZID:America/New_York
BEGIN:STANDARD
DTSTART:20251102T010000
TZOFFSETFROM:-0400
TZOFFSETTO:-0500
END:STANDARD
BEGIN:DAYLIGHT
DTSTART:20260308T010000
TZOFFSETFROM:-0500
TZOFFSETTO:-0400
END:DAYLIGHT
END:VTIMEZONE
BEGIN:VTIMEZONE
TZID:UTC
BEGIN:STANDARD
DTSTART:20250727T133625
TZOFFSETFROM:+0000
TZOFFSETTO:+0000
END:STANDARD
END:VTIMEZONE
BEGIN:VEVENT
UID:69ea205914f4c
DTSTAMP:20260423T133625Z
SUMMARY:Cryptocurrency 15 Years Later - A Market Update
LOCATION: 
URL:https://macpa.org/catalog/events/21229540-cryptocurrency-15-years-later
 -a-market-update-2026-15-04
DTSTART;TZID=America/New_York:20260415T093000
DTEND;TZID=America/New_York:20260415T103000
END:VEVENT
END:VCALENDAR