BEGIN:VCALENDAR
VERSION:2.0
PRODID:spatie/icalendar-generator
NAME:AI Conference (in partnership with GWSCPA)
X-WR-CALNAME:AI Conference (in partnership with GWSCPA)
BEGIN:VTIMEZONE
TZID:America/New_York
BEGIN:DAYLIGHT
DTSTART:20250309T010000
TZOFFSETFROM:-0500
TZOFFSETTO:-0400
END:DAYLIGHT
BEGIN:STANDARD
DTSTART:20251102T010000
TZOFFSETFROM:-0400
TZOFFSETTO:-0500
END:STANDARD
BEGIN:DAYLIGHT
DTSTART:20260308T010000
TZOFFSETFROM:-0500
TZOFFSETTO:-0400
END:DAYLIGHT
END:VTIMEZONE
BEGIN:VTIMEZONE
TZID:UTC
BEGIN:STANDARD
DTSTART:20250727T152342
TZOFFSETFROM:+0000
TZOFFSETTO:+0000
END:STANDARD
END:VTIMEZONE
BEGIN:VEVENT
UID:69ea397e79674
DTSTAMP:20260423T152342Z
SUMMARY:AI Conference (in partnership with GWSCPA)
LOCATION:905 N Glebe Rd\, Arlington\, Arlington County\, Virginia 22203
URL:https://macpa.org/catalog/events/21149392-ai-conference-in-partnership-
 with-gwscpa-2025-10-09
DTSTART;TZID=America/New_York:20250910T083000
DTEND;TZID=America/New_York:20250910T163000
GEO:38.881157;-77.115366
X-APPLE-STRUCTURED-LOCATION;VALUE=URI;X-ADDRESS=905 N Glebe Rd\, Arlington\
 , Arlington County\, Virginia 22203;X-APPLE-RADIUS=72;X-TITLE=CliftonLarso
 nAllen (Arlington\, VA):geo:38.881157,-77.115366
END:VEVENT
END:VCALENDAR