BEGIN:VCALENDAR
VERSION:2.0
PRODID:spatie/icalendar-generator
NAME:Don Farmer’s Passive Activities: Material Participation Rules\, Time
  Tracking & Compliance Strategies
X-WR-CALNAME:Don Farmer’s Passive Activities: Material Participation Rule
 s\, Time Tracking & Compliance Strategies
BEGIN:VTIMEZONE
TZID:America/New_York
BEGIN:STANDARD
DTSTART:20251102T010000
TZOFFSETFROM:-0400
TZOFFSETTO:-0500
END:STANDARD
BEGIN:DAYLIGHT
DTSTART:20260308T010000
TZOFFSETFROM:-0500
TZOFFSETTO:-0400
END:DAYLIGHT
END:VTIMEZONE
BEGIN:VTIMEZONE
TZID:UTC
BEGIN:STANDARD
DTSTART:20250726T031322
TZOFFSETFROM:+0000
TZOFFSETTO:+0000
END:STANDARD
END:VTIMEZONE
BEGIN:VEVENT
UID:69e83cd2bcf88
DTSTAMP:20260422T031322Z
SUMMARY:Don Farmer’s Passive Activities: Material Participation Rules\, T
 ime Tracking & Compliance Strategies
LOCATION: 
URL:https://macpa.org/catalog/events/21145782-don-farmers-passive-activitie
 s-material-participation-rules-time-tracking-compliance-strategies-2025-22
 -12
DTSTART;TZID=America/New_York:20251222T150000
DTEND;TZID=America/New_York:20251222T164000
END:VEVENT
END:VCALENDAR