BEGIN:VCALENDAR
VERSION:2.0
PRODID:spatie/icalendar-generator
NAME:(Canceled) Don Farmer’s Tax Planning for Purchases & Sales of Proper
 ty: Reducing Taxes on Property Sales
X-WR-CALNAME:(Canceled) Don Farmer’s Tax Planning for Purchases & Sales o
 f Property: Reducing Taxes on Property Sales
BEGIN:VTIMEZONE
TZID:America/New_York
BEGIN:DAYLIGHT
DTSTART:20250309T010000
TZOFFSETFROM:-0500
TZOFFSETTO:-0400
END:DAYLIGHT
BEGIN:STANDARD
DTSTART:20251102T010000
TZOFFSETFROM:-0400
TZOFFSETTO:-0500
END:STANDARD
BEGIN:DAYLIGHT
DTSTART:20260308T010000
TZOFFSETFROM:-0500
TZOFFSETTO:-0400
END:DAYLIGHT
END:VTIMEZONE
BEGIN:VTIMEZONE
TZID:UTC
BEGIN:STANDARD
DTSTART:20250726T042032
TZOFFSETFROM:+0000
TZOFFSETTO:+0000
END:STANDARD
END:VTIMEZONE
BEGIN:VEVENT
UID:69e84c90ddfa9
DTSTAMP:20260422T042032Z
SUMMARY:(Canceled) Don Farmer’s Tax Planning for Purchases & Sales of Pro
 perty: Reducing Taxes on Property Sales
LOCATION: 
URL:https://macpa.org/catalog/events/21145765-canceled-don-farmers-tax-plan
 ning-for-purchases-sales-of-property-reducing-taxes-on-property-sales-2025
 -27-10
DTSTART;TZID=America/New_York:20251027T150000
DTEND;TZID=America/New_York:20251027T164000
END:VEVENT
END:VCALENDAR