BEGIN:VCALENDAR
VERSION:2.0
PRODID:spatie/icalendar-generator
NAME:Don Farmer's Preparing Form 1065: Advanced Strategies for Navigating t
 he Latest IRS Changes
X-WR-CALNAME:Don Farmer's Preparing Form 1065: Advanced Strategies for Navi
 gating the Latest IRS Changes
BEGIN:VTIMEZONE
TZID:America/New_York
BEGIN:STANDARD
DTSTART:20251102T010000
TZOFFSETFROM:-0400
TZOFFSETTO:-0500
END:STANDARD
BEGIN:DAYLIGHT
DTSTART:20260308T010000
TZOFFSETFROM:-0500
TZOFFSETTO:-0400
END:DAYLIGHT
END:VTIMEZONE
BEGIN:VTIMEZONE
TZID:UTC
BEGIN:STANDARD
DTSTART:20250726T042207
TZOFFSETFROM:+0000
TZOFFSETTO:+0000
END:STANDARD
END:VTIMEZONE
BEGIN:VEVENT
UID:69e84cef0273e
DTSTAMP:20260422T042207Z
SUMMARY:Don Farmer's Preparing Form 1065: Advanced Strategies for Navigatin
 g the Latest IRS Changes
LOCATION: 
URL:https://macpa.org/catalog/events/21145723-don-farmers-preparing-form-10
 65-advanced-strategies-for-navigating-the-latest-irs-changes-2026-27-01
DTSTART;TZID=America/New_York:20260127T133000
DTEND;TZID=America/New_York:20260127T165000
END:VEVENT
END:VCALENDAR