BEGIN:VCALENDAR
VERSION:2.0
PRODID:spatie/icalendar-generator
NAME:Don Farmer's Preparing Form 1065: Navigating the Latest IRS Changes fo
 r Partnership Returns
X-WR-CALNAME:Don Farmer's Preparing Form 1065: Navigating the Latest IRS Ch
 anges for Partnership Returns
BEGIN:VTIMEZONE
TZID:America/New_York
BEGIN:STANDARD
DTSTART:20251102T010000
TZOFFSETFROM:-0400
TZOFFSETTO:-0500
END:STANDARD
BEGIN:DAYLIGHT
DTSTART:20260308T010000
TZOFFSETFROM:-0500
TZOFFSETTO:-0400
END:DAYLIGHT
END:VTIMEZONE
BEGIN:VTIMEZONE
TZID:UTC
BEGIN:STANDARD
DTSTART:20250726T031629
TZOFFSETFROM:+0000
TZOFFSETTO:+0000
END:STANDARD
END:VTIMEZONE
BEGIN:VEVENT
UID:69e83d8d575bb
DTSTAMP:20260422T031629Z
SUMMARY:Don Farmer's Preparing Form 1065: Navigating the Latest IRS Changes
  for Partnership Returns
LOCATION: 
URL:https://macpa.org/catalog/events/21145713-don-farmers-preparing-form-10
 65-navigating-the-latest-irs-changes-for-partnership-returns-2026-22-01
DTSTART;TZID=America/New_York:20260122T133000
DTEND;TZID=America/New_York:20260122T170000
END:VEVENT
END:VCALENDAR