BEGIN:VCALENDAR
VERSION:2.0
PRODID:spatie/icalendar-generator
NAME:Don Farmer’s Passive Activities: Foundational Rules\, Income Charact
 erization & Strategic Grouping
X-WR-CALNAME:Don Farmer’s Passive Activities: Foundational Rules\, Income
  Characterization & Strategic Grouping
BEGIN:VTIMEZONE
TZID:America/New_York
BEGIN:STANDARD
DTSTART:20251102T010000
TZOFFSETFROM:-0400
TZOFFSETTO:-0500
END:STANDARD
BEGIN:DAYLIGHT
DTSTART:20260308T010000
TZOFFSETFROM:-0500
TZOFFSETTO:-0400
END:DAYLIGHT
END:VTIMEZONE
BEGIN:VTIMEZONE
TZID:UTC
BEGIN:STANDARD
DTSTART:20250726T031542
TZOFFSETFROM:+0000
TZOFFSETTO:+0000
END:STANDARD
END:VTIMEZONE
BEGIN:VEVENT
UID:69e83d5eb846f
DTSTAMP:20260422T031542Z
SUMMARY:Don Farmer’s Passive Activities: Foundational Rules\, Income Char
 acterization & Strategic Grouping
LOCATION: 
URL:https://macpa.org/catalog/events/21145708-don-farmers-passive-activitie
 s-foundational-rules-income-characterization-strategic-grouping-2025-22-12
DTSTART;TZID=America/New_York:20251222T130000
DTEND;TZID=America/New_York:20251222T144000
END:VEVENT
END:VCALENDAR