BEGIN:VCALENDAR
VERSION:2.0
PRODID:spatie/icalendar-generator
NAME:(Canceled) Don Farmer's Tax Planning for Purchases & Sales of Property
 : Maximizing Deductions & Savings
X-WR-CALNAME:(Canceled) Don Farmer's Tax Planning for Purchases & Sales of 
 Property: Maximizing Deductions & Savings
BEGIN:VTIMEZONE
TZID:America/New_York
BEGIN:DAYLIGHT
DTSTART:20250309T010000
TZOFFSETFROM:-0500
TZOFFSETTO:-0400
END:DAYLIGHT
BEGIN:STANDARD
DTSTART:20251102T010000
TZOFFSETFROM:-0400
TZOFFSETTO:-0500
END:STANDARD
BEGIN:DAYLIGHT
DTSTART:20260308T010000
TZOFFSETFROM:-0500
TZOFFSETTO:-0400
END:DAYLIGHT
END:VTIMEZONE
BEGIN:VTIMEZONE
TZID:UTC
BEGIN:STANDARD
DTSTART:20250726T031845
TZOFFSETFROM:+0000
TZOFFSETTO:+0000
END:STANDARD
END:VTIMEZONE
BEGIN:VEVENT
UID:69e83e152ed00
DTSTAMP:20260422T031845Z
SUMMARY:(Canceled) Don Farmer's Tax Planning for Purchases & Sales of Prope
 rty: Maximizing Deductions & Savings
LOCATION: 
URL:https://macpa.org/catalog/events/21145624-canceled-don-farmers-tax-plan
 ning-for-purchases-sales-of-property-maximizing-deductions-savings-2025-27
 -10
DTSTART;TZID=America/New_York:20251027T130000
DTEND;TZID=America/New_York:20251027T144000
END:VEVENT
END:VCALENDAR