BEGIN:VCALENDAR
VERSION:2.0
PRODID:spatie/icalendar-generator
NAME:Health and Medical Savings Accounts: Tax Compliance\, Planning Strateg
 ies\, and 2025 Updates
X-WR-CALNAME:Health and Medical Savings Accounts: Tax Compliance\, Planning
  Strategies\, and 2025 Updates
BEGIN:VTIMEZONE
TZID:America/New_York
BEGIN:DAYLIGHT
DTSTART:20250309T010000
TZOFFSETFROM:-0500
TZOFFSETTO:-0400
END:DAYLIGHT
BEGIN:STANDARD
DTSTART:20251102T010000
TZOFFSETFROM:-0400
TZOFFSETTO:-0500
END:STANDARD
BEGIN:DAYLIGHT
DTSTART:20260308T010000
TZOFFSETFROM:-0500
TZOFFSETTO:-0400
END:DAYLIGHT
END:VTIMEZONE
BEGIN:VTIMEZONE
TZID:UTC
BEGIN:STANDARD
DTSTART:20250727T105609
TZOFFSETFROM:+0000
TZOFFSETTO:+0000
END:STANDARD
END:VTIMEZONE
BEGIN:VEVENT
UID:69e9fac9e61ce
DTSTAMP:20260423T105609Z
SUMMARY:Health and Medical Savings Accounts: Tax Compliance\, Planning Stra
 tegies\, and 2025 Updates
LOCATION: 
URL:https://macpa.org/catalog/events/20957577-health-and-medical-savings-ac
 counts-tax-compliance-planning-strategies-and-2025-updates-2025-21-11
DTSTART;TZID=America/New_York:20251121T134000
DTEND;TZID=America/New_York:20251121T150000
END:VEVENT
END:VCALENDAR